Package: qPLEXanalyzer Version: 1.22.1 Command: /Library/Frameworks/R.framework/Resources/bin/R CMD INSTALL qPLEXanalyzer StartedAt: 2024-10-16 17:36:34 -0400 (Wed, 16 Oct 2024) EndedAt: 2024-10-16 17:37:18 -0400 (Wed, 16 Oct 2024) EllapsedTime: 43.9 seconds RetCode: 0 Status: OK