Package: qPLEXanalyzer Version: 1.22.1 Command: /Library/Frameworks/R.framework/Resources/bin/R CMD check --install=check:qPLEXanalyzer.install-out.txt --library=/Library/Frameworks/R.framework/Resources/library --no-vignettes --timings qPLEXanalyzer_1.22.1.tar.gz StartedAt: 2024-10-18 08:25:21 -0400 (Fri, 18 Oct 2024) EndedAt: 2024-10-18 08:30:52 -0400 (Fri, 18 Oct 2024) EllapsedTime: 330.6 seconds RetCode: 0 Status: OK CheckDir: qPLEXanalyzer.Rcheck Warnings: 0