Package: qPLEXanalyzer Version: 1.22.1 Command: rm -rf qPLEXanalyzer.buildbin-libdir && mkdir qPLEXanalyzer.buildbin-libdir && /Users/biocbuild/BBS/utils/build-universal.sh qPLEXanalyzer_1.22.1.tar.gz /Library/Frameworks/R.framework/Resources/bin/R qPLEXanalyzer.buildbin-libdir StartedAt: 2024-10-18 20:05:22 -0400 (Fri, 18 Oct 2024) EndedAt: 2024-10-18 20:06:16 -0400 (Fri, 18 Oct 2024) EllapsedTime: 53.5 seconds RetCode: 0 Status: OK PackageFile: qPLEXanalyzer_1.22.1.tgz PackageFileSize: 3.741 MiB