Package: qPLEXanalyzer Version: 1.22.1 Maintainer: Ashley Sawle MaintainerEmail: ads2202cu at gmail.com git_url: https://git.bioconductor.org/packages/qPLEXanalyzer git_branch: RELEASE_3_19 git_last_commit: e9ff9dd git_last_commit_date: 2024-09-18 09:31:31 -0400 (Wed, 18 Sep 2024)