Package: pwalign Version: 1.0.0 Command: /home/biocbuild/bbs-3.19-bioc/R/bin/R CMD build --keep-empty-dirs --no-resave-data pwalign StartedAt: 2024-10-16 20:14:59 -0400 (Wed, 16 Oct 2024) EndedAt: 2024-10-16 20:15:53 -0400 (Wed, 16 Oct 2024) EllapsedTime: 54.1 seconds RetCode: 0 Status: OK PackageFile: pwalign_1.0.0.tar.gz PackageFileSize: 346.8 KiB