Package: pwalign Version: 1.0.0 Command: rm -rf pwalign.buildbin-libdir && mkdir pwalign.buildbin-libdir && /Users/biocbuild/BBS/utils/build-universal.sh pwalign_1.0.0.tar.gz /Library/Frameworks/R.framework/Resources/bin/R pwalign.buildbin-libdir StartedAt: 2024-10-17 16:53:40 -0400 (Thu, 17 Oct 2024) EndedAt: 2024-10-17 16:54:23 -0400 (Thu, 17 Oct 2024) EllapsedTime: 42.6 seconds RetCode: 0 Status: OK PackageFile: pwalign_1.0.0.tgz PackageFileSize: 757.7 KiB