Package: pwalign Version: 1.0.0 Command: /home/biocbuild/R/R-beta-2024-04-15_r86425/bin/R CMD build --keep-empty-dirs --no-resave-data pwalign StartedAt: 2024-05-09 02:41:21 -0000 (Thu, 09 May 2024) EndedAt: 2024-05-09 02:42:32 -0000 (Thu, 09 May 2024) EllapsedTime: 70.1 seconds RetCode: 0 Status: OK PackageFile: pwalign_1.0.0.tar.gz PackageFileSize: 339.4 KiB