Package: pwalign Version: 1.0.0 Command: /Library/Frameworks/R.framework/Resources/bin/R CMD check --install=check:pwalign.install-out.txt --library=/Library/Frameworks/R.framework/Resources/library --no-vignettes --timings pwalign_1.0.0.tar.gz StartedAt: 2024-06-11 02:00:22 -0400 (Tue, 11 Jun 2024) EndedAt: 2024-06-11 02:03:02 -0400 (Tue, 11 Jun 2024) EllapsedTime: 160.1 seconds RetCode: 0 Status: OK CheckDir: pwalign.Rcheck Warnings: 0