Package: pwOmics Version: 1.36.0 Command: rm -rf pwOmics.buildbin-libdir && mkdir pwOmics.buildbin-libdir && E:\biocbuild\bbs-3.19-bioc\R\bin\R.exe CMD INSTALL --build --library=pwOmics.buildbin-libdir pwOmics_1.36.0.tar.gz StartedAt: 2024-10-17 08:23:57 -0400 (Thu, 17 Oct 2024) EndedAt: 2024-10-17 08:24:39 -0400 (Thu, 17 Oct 2024) EllapsedTime: 41.9 seconds RetCode: 0 Status: OK PackageFile: pwOmics_1.36.0.zip PackageFileSize: 1.122 MiB