Package: pwOmics Version: 1.36.0 Command: /home/biocbuild/bbs-3.19-bioc/R/bin/R CMD build --keep-empty-dirs --no-resave-data pwOmics StartedAt: 2024-10-16 20:15:09 -0400 (Wed, 16 Oct 2024) EndedAt: 2024-10-16 20:15:11 -0400 (Wed, 16 Oct 2024) EllapsedTime: 2.0 seconds RetCode: 0 Status: OK PackageFile: pwOmics_1.36.0.tar.gz PackageFileSize: 882.7 KiB