Package: pwOmics Version: 1.36.0 Command: /Library/Frameworks/R.framework/Resources/bin/R CMD INSTALL pwOmics StartedAt: 2024-10-16 15:55:20 -0400 (Wed, 16 Oct 2024) EndedAt: 2024-10-16 15:56:10 -0400 (Wed, 16 Oct 2024) EllapsedTime: 50.3 seconds RetCode: 0 Status: OK