Package: pwOmics Version: 1.36.0 Command: /Library/Frameworks/R.framework/Resources/bin/R CMD check --install=check:pwOmics.install-out.txt --library=/Library/Frameworks/R.framework/Resources/library --no-vignettes --timings pwOmics_1.36.0.tar.gz StartedAt: 2024-06-09 22:22:10 -0400 (Sun, 09 Jun 2024) EndedAt: 2024-06-09 22:26:57 -0400 (Sun, 09 Jun 2024) EllapsedTime: 287.3 seconds RetCode: 0 Status: WARNINGS CheckDir: pwOmics.Rcheck Warnings: 1