Package: pwOmics Version: 1.36.0 Command: /Library/Frameworks/R.framework/Resources/bin/R CMD build --keep-empty-dirs --no-resave-data pwOmics StartedAt: 2024-06-09 17:48:16 -0400 (Sun, 09 Jun 2024) EndedAt: 2024-06-09 17:48:19 -0400 (Sun, 09 Jun 2024) EllapsedTime: 2.3 seconds RetCode: 0 Status: OK PackageFile: pwOmics_1.36.0.tar.gz PackageFileSize: 882.8 KiB