Package: pwOmics Version: 1.36.0 Command: rm -rf pwOmics.buildbin-libdir && mkdir pwOmics.buildbin-libdir && /Users/biocbuild/BBS/utils/build-universal.sh pwOmics_1.36.0.tar.gz /Library/Frameworks/R.framework/Resources/bin/R pwOmics.buildbin-libdir StartedAt: 2024-06-10 00:33:26 -0400 (Mon, 10 Jun 2024) EndedAt: 2024-06-10 00:33:57 -0400 (Mon, 10 Jun 2024) EllapsedTime: 31.8 seconds RetCode: 0 Status: OK PackageFile: pwOmics_1.36.0.tgz PackageFileSize: 1.139 MiB