Package: pwOmics Version: 1.36.0 Command: /home/biocbuild/R/R-beta-2024-04-15_r86425/bin/R CMD build --keep-empty-dirs --no-resave-data pwOmics StartedAt: 2024-05-09 02:41:47 -0000 (Thu, 09 May 2024) EndedAt: 2024-05-09 02:41:49 -0000 (Thu, 09 May 2024) EllapsedTime: 2.0 seconds RetCode: 0 Status: OK PackageFile: pwOmics_1.36.0.tar.gz PackageFileSize: 882.7 KiB