Package: pwOmics Version: 1.36.0 Command: rm -rf pwOmics.buildbin-libdir && mkdir pwOmics.buildbin-libdir && /Users/biocbuild/BBS/utils/build-universal.sh pwOmics_1.36.0.tar.gz /Library/Frameworks/R.framework/Resources/bin/R pwOmics.buildbin-libdir StartedAt: 2024-10-18 20:04:37 -0400 (Fri, 18 Oct 2024) EndedAt: 2024-10-18 20:05:08 -0400 (Fri, 18 Oct 2024) EllapsedTime: 31.7 seconds RetCode: 0 Status: OK PackageFile: pwOmics_1.36.0.tgz PackageFileSize: 1.139 MiB