Package: pvca Version: 1.44.0 Command: rm -rf pvca.buildbin-libdir && mkdir pvca.buildbin-libdir && E:\biocbuild\bbs-3.19-bioc\R\bin\R.exe CMD INSTALL --build --library=pvca.buildbin-libdir pvca_1.44.0.tar.gz StartedAt: 2024-10-17 08:23:43 -0400 (Thu, 17 Oct 2024) EndedAt: 2024-10-17 08:23:56 -0400 (Thu, 17 Oct 2024) EllapsedTime: 12.2 seconds RetCode: 0 Status: OK PackageFile: pvca_1.44.0.zip PackageFileSize: 120.2 KiB