Package: pvca Version: 1.44.0 Command: chmod a+r pvca -R && F:\biocbuild\bbs-3.19-bioc\R\bin\R.exe CMD build --keep-empty-dirs --no-resave-data pvca StartedAt: 2024-06-26 21:08:38 -0400 (Wed, 26 Jun 2024) EndedAt: 2024-06-26 21:09:08 -0400 (Wed, 26 Jun 2024) EllapsedTime: 30.1 seconds RetCode: 0 Status: OK PackageFile: pvca_1.44.0.tar.gz PackageFileSize: 108.9 KiB