Package: pvca Version: 1.44.0 Command: /home/biocbuild/bbs-3.19-bioc/R/bin/R CMD check --install=check:pvca.install-out.txt --library=/home/biocbuild/bbs-3.19-bioc/R/site-library --timings pvca_1.44.0.tar.gz StartedAt: 2024-10-17 03:59:15 -0400 (Thu, 17 Oct 2024) EndedAt: 2024-10-17 04:00:29 -0400 (Thu, 17 Oct 2024) EllapsedTime: 74.1 seconds RetCode: 0 Status: OK CheckDir: pvca.Rcheck Warnings: 0