Package: pvca Version: 1.44.0 Command: /home/biocbuild/bbs-3.19-bioc/R/bin/R CMD build --keep-empty-dirs --no-resave-data pvca StartedAt: 2024-10-16 20:14:50 -0400 (Wed, 16 Oct 2024) EndedAt: 2024-10-16 20:15:09 -0400 (Wed, 16 Oct 2024) EllapsedTime: 19.0 seconds RetCode: 0 Status: OK PackageFile: pvca_1.44.0.tar.gz PackageFileSize: 108.8 KiB