Package: pvca Version: 1.44.0 Command: /Library/Frameworks/R.framework/Resources/bin/R CMD build --keep-empty-dirs --no-resave-data pvca StartedAt: 2024-06-09 17:48:02 -0400 (Sun, 09 Jun 2024) EndedAt: 2024-06-09 17:48:25 -0400 (Sun, 09 Jun 2024) EllapsedTime: 23.6 seconds RetCode: 0 Status: OK PackageFile: pvca_1.44.0.tar.gz PackageFileSize: 216.5 KiB