Package: pvca Version: 1.44.0 Command: /home/biocbuild/R/R-beta-2024-04-15_r86425/bin/R CMD check --install=check:pvca.install-out.txt --library=/home/biocbuild/R/R-beta-2024-04-15_r86425/site-library --no-vignettes --timings pvca_1.44.0.tar.gz StartedAt: 2024-05-09 10:48:46 -0000 (Thu, 09 May 2024) EndedAt: 2024-05-09 10:50:14 -0000 (Thu, 09 May 2024) EllapsedTime: 88.1 seconds RetCode: 0 Status: OK CheckDir: pvca.Rcheck Warnings: 0