Package: pvca Version: 1.44.0 Command: /home/biocbuild/R/R-beta-2024-04-15_r86425/bin/R CMD build --keep-empty-dirs --no-resave-data pvca StartedAt: 2024-05-09 02:40:54 -0000 (Thu, 09 May 2024) EndedAt: 2024-05-09 02:41:21 -0000 (Thu, 09 May 2024) EllapsedTime: 27.0 seconds RetCode: 0 Status: OK PackageFile: pvca_1.44.0.tar.gz PackageFileSize: 212.5 KiB