Package: pvca Version: 1.44.0 Command: /Library/Frameworks/R.framework/Resources/bin/R CMD check --install=check:pvca.install-out.txt --library=/Library/Frameworks/R.framework/Resources/library --no-vignettes --timings pvca_1.44.0.tar.gz StartedAt: 2024-06-11 01:59:15 -0400 (Tue, 11 Jun 2024) EndedAt: 2024-06-11 02:01:16 -0400 (Tue, 11 Jun 2024) EllapsedTime: 120.6 seconds RetCode: 0 Status: OK CheckDir: pvca.Rcheck Warnings: 0