Package: pvca Version: 1.44.0 Command: rm -rf pvca.buildbin-libdir && mkdir pvca.buildbin-libdir && /Users/biocbuild/BBS/utils/build-universal.sh pvca_1.44.0.tar.gz /Library/Frameworks/R.framework/Resources/bin/R pvca.buildbin-libdir StartedAt: 2024-06-11 12:37:52 -0400 (Tue, 11 Jun 2024) EndedAt: 2024-06-11 12:38:12 -0400 (Tue, 11 Jun 2024) EllapsedTime: 20.0 seconds RetCode: 0 Status: OK PackageFile: pvca_1.44.0.tgz PackageFileSize: 223.9 KiB