Package: pvca Version: 1.44.0 Command: /Library/Frameworks/R.framework/Resources/bin/R CMD INSTALL pvca StartedAt: 2024-10-16 16:09:44 -0400 (Wed, 16 Oct 2024) EndedAt: 2024-10-16 16:09:56 -0400 (Wed, 16 Oct 2024) EllapsedTime: 12.4 seconds RetCode: 0 Status: OK