Package: pvca Version: 1.44.0 Command: /Library/Frameworks/R.framework/Resources/bin/R CMD check --install=check:pvca.install-out.txt --library=/Library/Frameworks/R.framework/Resources/library --no-vignettes --timings pvca_1.44.0.tar.gz StartedAt: 2024-10-18 08:16:50 -0400 (Fri, 18 Oct 2024) EndedAt: 2024-10-18 08:18:13 -0400 (Fri, 18 Oct 2024) EllapsedTime: 82.2 seconds RetCode: 0 Status: OK CheckDir: pvca.Rcheck Warnings: 0