Package: pvac Version: 1.52.0 Command: E:\biocbuild\bbs-3.19-bioc\R\bin\R.exe CMD INSTALL pvac StartedAt: 2024-10-16 16:03:37 -0400 (Wed, 16 Oct 2024) EndedAt: 2024-10-16 16:03:45 -0400 (Wed, 16 Oct 2024) EllapsedTime: 8.0 seconds RetCode: 0 Status: OK