Package: pvac Version: 1.52.0 Command: chmod a+r pvac -R && E:\biocbuild\bbs-3.19-bioc\R\bin\R.exe CMD build --keep-empty-dirs --no-resave-data pvac StartedAt: 2024-10-16 21:15:44 -0400 (Wed, 16 Oct 2024) EndedAt: 2024-10-16 21:16:43 -0400 (Wed, 16 Oct 2024) EllapsedTime: 58.9 seconds RetCode: 0 Status: OK PackageFile: pvac_1.52.0.tar.gz PackageFileSize: 129.7 KiB