Package: pvac Version: 1.52.0 Command: /Library/Frameworks/R.framework/Resources/bin/R CMD check --install=check:pvac.install-out.txt --library=/Library/Frameworks/R.framework/Resources/library --no-vignettes --timings pvac_1.52.0.tar.gz StartedAt: 2024-10-17 11:14:02 -0400 (Thu, 17 Oct 2024) EndedAt: 2024-10-17 11:15:42 -0400 (Thu, 17 Oct 2024) EllapsedTime: 99.5 seconds RetCode: 0 Status: OK CheckDir: pvac.Rcheck Warnings: 0