Package: pvac Version: 1.52.0 Command: /Library/Frameworks/R.framework/Resources/bin/R CMD INSTALL pvac StartedAt: 2024-06-09 15:05:36 -0400 (Sun, 09 Jun 2024) EndedAt: 2024-06-09 15:06:11 -0400 (Sun, 09 Jun 2024) EllapsedTime: 34.5 seconds RetCode: 0 Status: OK