Package: pvac Version: 1.52.0 Command: /Library/Frameworks/R.framework/Resources/bin/R CMD check --install=check:pvac.install-out.txt --library=/Library/Frameworks/R.framework/Resources/library --no-vignettes --timings pvac_1.52.0.tar.gz StartedAt: 2024-06-09 22:21:52 -0400 (Sun, 09 Jun 2024) EndedAt: 2024-06-09 22:22:40 -0400 (Sun, 09 Jun 2024) EllapsedTime: 48.4 seconds RetCode: 0 Status: OK CheckDir: pvac.Rcheck Warnings: 0