Package: pvac Version: 1.52.0 Command: rm -rf pvac.buildbin-libdir && mkdir pvac.buildbin-libdir && /Users/biocbuild/BBS/utils/build-universal.sh pvac_1.52.0.tar.gz /Library/Frameworks/R.framework/Resources/bin/R pvac.buildbin-libdir StartedAt: 2024-06-10 00:33:24 -0400 (Mon, 10 Jun 2024) EndedAt: 2024-06-10 00:33:30 -0400 (Mon, 10 Jun 2024) EllapsedTime: 5.7 seconds RetCode: 0 Status: OK PackageFile: pvac_1.52.0.tgz PackageFileSize: 252.4 KiB