Package: pvac Version: 1.52.0 Command: /home/biocbuild/R/R-beta-2024-04-15_r86425/bin/R CMD check --install=check:pvac.install-out.txt --library=/home/biocbuild/R/R-beta-2024-04-15_r86425/site-library --no-vignettes --timings pvac_1.52.0.tar.gz StartedAt: 2024-05-09 10:48:21 -0000 (Thu, 09 May 2024) EndedAt: 2024-05-09 10:49:30 -0000 (Thu, 09 May 2024) EllapsedTime: 69.1 seconds RetCode: 0 Status: OK CheckDir: pvac.Rcheck Warnings: 0