Package: pvac Version: 1.52.0 Command: /Library/Frameworks/R.framework/Resources/bin/R CMD INSTALL pvac StartedAt: 2024-10-16 15:41:03 -0400 (Wed, 16 Oct 2024) EndedAt: 2024-10-16 15:41:08 -0400 (Wed, 16 Oct 2024) EllapsedTime: 4.6 seconds RetCode: 0 Status: OK