Package: pvac Version: 1.52.0 Command: /Library/Frameworks/R.framework/Resources/bin/R CMD build --keep-empty-dirs --no-resave-data pvac StartedAt: 2024-10-17 06:50:48 -0400 (Thu, 17 Oct 2024) EndedAt: 2024-10-17 06:51:41 -0400 (Thu, 17 Oct 2024) EllapsedTime: 53.1 seconds RetCode: 0 Status: OK PackageFile: pvac_1.52.0.tar.gz PackageFileSize: 258.2 KiB