Package: puma Version: 3.46.0 Command: E:\biocbuild\bbs-3.19-bioc\R\bin\R.exe CMD check --no-multiarch --install=check:puma.install-out.txt --library=E:\biocbuild\bbs-3.19-bioc\R\library --no-vignettes --timings puma_3.46.0.tar.gz StartedAt: 2024-10-17 04:41:02 -0400 (Thu, 17 Oct 2024) EndedAt: 2024-10-17 04:46:54 -0400 (Thu, 17 Oct 2024) EllapsedTime: 351.6 seconds RetCode: 0 Status: OK CheckDir: puma.Rcheck Warnings: 0