Package: puma Version: 3.46.0 Command: chmod a+r puma -R && E:\biocbuild\bbs-3.19-bioc\R\bin\R.exe CMD build --keep-empty-dirs --no-resave-data puma StartedAt: 2024-10-16 21:15:39 -0400 (Wed, 16 Oct 2024) EndedAt: 2024-10-16 21:17:49 -0400 (Wed, 16 Oct 2024) EllapsedTime: 130.9 seconds RetCode: 0 Status: OK PackageFile: puma_3.46.0.tar.gz PackageFileSize: 3.252 MiB