Package: ptairMS Version: 1.12.0 Command: chmod a+r ptairMS -R && E:\biocbuild\bbs-3.19-bioc\R\bin\R.exe CMD build --keep-empty-dirs --no-resave-data ptairMS StartedAt: 2024-10-16 21:15:35 -0400 (Wed, 16 Oct 2024) EndedAt: 2024-10-16 21:19:28 -0400 (Wed, 16 Oct 2024) EllapsedTime: 232.7 seconds RetCode: 0 Status: OK PackageFile: ptairMS_1.12.0.tar.gz PackageFileSize: 1.931 MiB