Package: ptairMS Version: 1.12.0 Command: rm -rf ptairMS.buildbin-libdir && mkdir ptairMS.buildbin-libdir && F:\biocbuild\bbs-3.19-bioc\R\bin\R.exe CMD INSTALL --build --library=ptairMS.buildbin-libdir ptairMS_1.12.0.tar.gz StartedAt: 2024-06-27 08:42:48 -0400 (Thu, 27 Jun 2024) EndedAt: 2024-06-27 08:43:36 -0400 (Thu, 27 Jun 2024) EllapsedTime: 47.8 seconds RetCode: 0 Status: OK PackageFile: ptairMS_1.12.0.zip PackageFileSize: 2.308 MiB