Package: ptairMS Version: 1.12.0 Maintainer: camille Roquencourt MaintainerEmail: camille.roquencourt at hotmail.fr git_url: https://git.bioconductor.org/packages/ptairMS git_branch: RELEASE_3_19 git_last_commit: b288c6e git_last_commit_date: 2024-04-30 11:33:01 -0400 (Tue, 30 Apr 2024)