Package: psygenet2r Version: 1.36.0 Command: rm -rf psygenet2r.buildbin-libdir && mkdir psygenet2r.buildbin-libdir && E:\biocbuild\bbs-3.19-bioc\R\bin\R.exe CMD INSTALL --build --library=psygenet2r.buildbin-libdir psygenet2r_1.36.0.tar.gz StartedAt: 2024-10-10 07:55:45 -0400 (Thu, 10 Oct 2024) EndedAt: 2024-10-10 07:56:26 -0400 (Thu, 10 Oct 2024) EllapsedTime: 40.9 seconds RetCode: 0 Status: OK PackageFile: psygenet2r_1.36.0.zip PackageFileSize: 1.819 MiB