Package: psygenet2r Version: 1.36.0 Command: /home/biocbuild/bbs-3.19-bioc/R/bin/R CMD check --install=check:psygenet2r.install-out.txt --library=/home/biocbuild/bbs-3.19-bioc/R/site-library --timings psygenet2r_1.36.0.tar.gz StartedAt: 2024-10-14 03:26:28 -0400 (Mon, 14 Oct 2024) EndedAt: 2024-10-14 03:35:33 -0400 (Mon, 14 Oct 2024) EllapsedTime: 544.2 seconds RetCode: 1 Status: ERROR CheckDir: psygenet2r.Rcheck Warnings: NA