Package: psygenet2r Version: 1.36.0 Command: rm -rf psygenet2r.buildbin-libdir && mkdir psygenet2r.buildbin-libdir && /Users/biocbuild/BBS/utils/build-universal.sh psygenet2r_1.36.0.tar.gz /Library/Frameworks/R.framework/Resources/bin/R psygenet2r.buildbin-libdir StartedAt: 2024-10-14 16:48:35 -0400 (Mon, 14 Oct 2024) EndedAt: 2024-10-14 16:49:27 -0400 (Mon, 14 Oct 2024) EllapsedTime: 52.0 seconds RetCode: 0 Status: OK PackageFile: psygenet2r_1.36.0.tgz PackageFileSize: 3.453 MiB