Package: psygenet2r Version: 1.36.0 Command: /home/biocbuild/R/R-beta-2024-04-15_r86425/bin/R CMD check --install=check:psygenet2r.install-out.txt --library=/home/biocbuild/R/R-beta-2024-04-15_r86425/site-library --no-vignettes --timings psygenet2r_1.36.0.tar.gz StartedAt: 2024-05-09 10:46:59 -0000 (Thu, 09 May 2024) EndedAt: 2024-05-09 10:52:24 -0000 (Thu, 09 May 2024) EllapsedTime: 324.5 seconds RetCode: 0 Status: OK CheckDir: psygenet2r.Rcheck Warnings: 0