Package: psygenet2r Version: 1.36.0 Command: /Library/Frameworks/R.framework/Resources/bin/R CMD build --keep-empty-dirs --no-resave-data psygenet2r StartedAt: 2024-06-10 02:50:39 -0400 (Mon, 10 Jun 2024) EndedAt: 2024-06-10 02:58:38 -0400 (Mon, 10 Jun 2024) EllapsedTime: 479.3 seconds RetCode: 0 Status: OK PackageFile: psygenet2r_1.36.0.tar.gz PackageFileSize: 3.165 MiB