Package: psygenet2r Version: 1.36.0 Command: rm -rf psygenet2r.buildbin-libdir && mkdir psygenet2r.buildbin-libdir && /Users/biocbuild/BBS/utils/build-universal.sh psygenet2r_1.36.0.tar.gz /Library/Frameworks/R.framework/Resources/bin/R psygenet2r.buildbin-libdir StartedAt: 2024-06-11 12:37:18 -0400 (Tue, 11 Jun 2024) EndedAt: 2024-06-11 12:37:54 -0400 (Tue, 11 Jun 2024) EllapsedTime: 36.3 seconds RetCode: 0 Status: OK PackageFile: psygenet2r_1.36.0.tgz PackageFileSize: 3.475 MiB