Package: psygenet2r Version: 1.36.0 Command: /Library/Frameworks/R.framework/Resources/bin/R CMD INSTALL psygenet2r StartedAt: 2024-10-16 17:05:05 -0400 (Wed, 16 Oct 2024) EndedAt: 2024-10-16 17:05:27 -0400 (Wed, 16 Oct 2024) EllapsedTime: 21.8 seconds RetCode: 0 Status: OK