Package: psygenet2r Version: 1.36.0 Command: /Library/Frameworks/R.framework/Resources/bin/R CMD check --install=check:psygenet2r.install-out.txt --library=/Library/Frameworks/R.framework/Resources/library --no-vignettes --timings psygenet2r_1.36.0.tar.gz StartedAt: 2024-10-15 07:48:16 -0400 (Tue, 15 Oct 2024) EndedAt: 2024-10-15 07:52:29 -0400 (Tue, 15 Oct 2024) EllapsedTime: 253.3 seconds RetCode: 1 Status: ERROR CheckDir: psygenet2r.Rcheck Warnings: NA