Package: psygenet2r Version: 1.36.0 Command: /Library/Frameworks/R.framework/Resources/bin/R CMD build --keep-empty-dirs --no-resave-data psygenet2r StartedAt: 2024-10-17 06:48:59 -0400 (Thu, 17 Oct 2024) EndedAt: 2024-10-17 06:49:44 -0400 (Thu, 17 Oct 2024) EllapsedTime: 45.5 seconds RetCode: 1 Status: ERROR PackageFile: None PackageFileSize: NA